BEGIN:VCALENDAR
VERSION:2.0
PRODID:-//Tukios.com/
BEGIN:VEVENT
UID:78f2d609-1614-46b0-b71d-783974840633@www.sharkeyfuneralhome.com
DTSTAMP:20260424T015321Z
DTSTART:20260425T170000Z
DTEND:20260425T180000Z
SUMMARY:Funeral Service
DESCRIPTION:
URL:https://www.sharkeyfuneralhome.com/obituaries/randy-greer
LOCATION:Sharkey Funeral Home 1023 Old Brookhaven Road  Summit MS 39666
GEO:31.2905483;-90.4814963
END:VEVENT
END:VCALENDAR