BEGIN:VCALENDAR
VERSION:2.0
PRODID:-//Tukios.com/
BEGIN:VEVENT
UID:def89330-1b7f-4bae-93fe-b350a9dd1378@www.sharkeyfuneralhome.com
DTSTAMP:20260424T014617Z
DTSTART:20260425T140000Z
DTEND:20260425T170000Z
SUMMARY:Visitation
DESCRIPTION:
URL:https://www.sharkeyfuneralhome.com/obituaries/randy-greer
LOCATION:Sharkey Funeral Home 1023 Old Brookhaven Road  Summit MS 39666
GEO:31.2905483;-90.4814963
END:VEVENT
END:VCALENDAR