BEGIN:VCALENDAR
VERSION:2.0
PRODID:-//Tukios.com/
BEGIN:VEVENT
UID:feff6217-7049-4728-a36c-c4f749be8015@www.sharkeyfuneralhome.com
DTSTAMP:20260424T015026Z
DTSTART:20260424T220000Z
DTEND:20260425T020000Z
SUMMARY:Visitation
DESCRIPTION:
URL:https://www.sharkeyfuneralhome.com/obituaries/randy-greer
LOCATION:Sharkey Funeral Home 1023 Old Brookhaven Road  Summit MS 39666
GEO:31.2905483;-90.4814963
END:VEVENT
END:VCALENDAR